BEGIN:VCALENDAR
VERSION:2.0
PRODID:-//jEvents 2.0 for Joomla//EN
CALSCALE:GREGORIAN
METHOD:PUBLISH
BEGIN:VTIMEZONE
TZID:Europe/Stockholm
BEGIN:STANDARD
DTSTART:20250228T140000
RDATE:20250330T030000
TZOFFSETFROM:+0200
TZOFFSETTO:+0100
TZNAME:Europe/Stockholm CET
END:STANDARD
BEGIN:STANDARD
DTSTART:20251026T020000
RDATE:20260329T030000
TZOFFSETFROM:+0200
TZOFFSETTO:+0100
TZNAME:Europe/Stockholm CET
END:STANDARD
BEGIN:STANDARD
DTSTART:20261025T020000
RDATE:20270328T030000
TZOFFSETFROM:+0200
TZOFFSETTO:+0100
TZNAME:Europe/Stockholm CET
END:STANDARD
BEGIN:STANDARD
DTSTART:20271031T020000
RDATE:20280326T030000
TZOFFSETFROM:+0200
TZOFFSETTO:+0100
TZNAME:Europe/Stockholm CET
END:STANDARD
BEGIN:STANDARD
DTSTART:20281029T020000
RDATE:20290325T030000
TZOFFSETFROM:+0200
TZOFFSETTO:+0100
TZNAME:Europe/Stockholm CET
END:STANDARD
BEGIN:STANDARD
DTSTART:20291028T020000
RDATE:20300331T030000
TZOFFSETFROM:+0200
TZOFFSETTO:+0100
TZNAME:Europe/Stockholm CET
END:STANDARD
BEGIN:STANDARD
DTSTART:20301027T020000
RDATE:20310330T030000
TZOFFSETFROM:+0200
TZOFFSETTO:+0100
TZNAME:Europe/Stockholm CET
END:STANDARD
BEGIN:STANDARD
DTSTART:20311026T020000
RDATE:20320328T030000
TZOFFSETFROM:+0200
TZOFFSETTO:+0100
TZNAME:Europe/Stockholm CET
END:STANDARD
BEGIN:DAYLIGHT
DTSTART:20250330T030000
RDATE:20251026T020000
TZOFFSETFROM:+0100
TZOFFSETTO:+0200
TZNAME:Europe/Stockholm CEST
END:DAYLIGHT
BEGIN:DAYLIGHT
DTSTART:20260329T030000
RDATE:20261025T020000
TZOFFSETFROM:+0100
TZOFFSETTO:+0200
TZNAME:Europe/Stockholm CEST
END:DAYLIGHT
BEGIN:DAYLIGHT
DTSTART:20270328T030000
RDATE:20271031T020000
TZOFFSETFROM:+0100
TZOFFSETTO:+0200
TZNAME:Europe/Stockholm CEST
END:DAYLIGHT
BEGIN:DAYLIGHT
DTSTART:20280326T030000
RDATE:20281029T020000
TZOFFSETFROM:+0100
TZOFFSETTO:+0200
TZNAME:Europe/Stockholm CEST
END:DAYLIGHT
BEGIN:DAYLIGHT
DTSTART:20290325T030000
RDATE:20291028T020000
TZOFFSETFROM:+0100
TZOFFSETTO:+0200
TZNAME:Europe/Stockholm CEST
END:DAYLIGHT
BEGIN:DAYLIGHT
DTSTART:20300331T030000
RDATE:20301027T020000
TZOFFSETFROM:+0100
TZOFFSETTO:+0200
TZNAME:Europe/Stockholm CEST
END:DAYLIGHT
BEGIN:DAYLIGHT
DTSTART:20310330T030000
RDATE:20311026T020000
TZOFFSETFROM:+0100
TZOFFSETTO:+0200
TZNAME:Europe/Stockholm CEST
END:DAYLIGHT
END:VTIMEZONE
BEGIN:VEVENT
UID:b692954f92a2e8fe46f8863272e3d72b
CATEGORIES:DEFAULT
CREATED:20260129T201712
SUMMARY:ÅRSMÖTE
LOCATION:Bräknegården Belganet
URL;VALUE=URI:https://www.blekingemc.se/index.php/kalender-manad/handelsedetaljer/42/-/ar
 smoete?tmpl=component
DESCRIPTION:Vi hälsar alla BMC-medlemmar välkomna till årsmötet.\nplats Bräknegården i 
 Belganet kl 14:00.\nMotioner ska vara styrelsen tillhanda senast 10 dagar i
 nnan\nårsmötet.\n This event was imported from: https://www.blekingemc.se/i
 ndex.php/kalender-manad/handelsedetaljer/42/-/arsmoete?tmpl=component (http
 s://www.blekingemc.se/index.php/kalender-manad/handelsedetaljer/42/-/arsmoe
 te?tmpl=component)

X-ALT-DESC;FMTTYPE=text/html:<p>Vi hälsar alla BMC-medlemmar välkomna till årsmötet.<br />plats Bräknegå
 rden i Belganet kl 14:00.<br />Motioner ska vara styrelsen tillhanda senast
  10 dagar innan<br />årsmötet.</p> <a href="https://www.blekingemc.se/index
 .php/kalender-manad/handelsedetaljer/42/-/arsmoete?tmpl=component">This eve
 nt was imported from: https://www.blekingemc.se/index.php/kalender-manad/ha
 ndelsedetaljer/42/-/arsmoete?tmpl=component</a>CONTACT:Ulf Nelsén 0736 90 65 77
DTSTAMP:20260423T014440
DTSTART;TZID=Europe/Stockholm:20260301T140000
SEQUENCE:0
TRANSP:OPAQUE
END:VEVENT
END:VCALENDAR