BEGIN:VCALENDAR
VERSION:2.0
PRODID:-//jEvents 2.0 for Joomla//EN
CALSCALE:GREGORIAN
METHOD:PUBLISH
BEGIN:VTIMEZONE
TZID:Europe/Stockholm
BEGIN:STANDARD
DTSTART:20251026T020000
RDATE:20260329T030000
TZOFFSETFROM:+0200
TZOFFSETTO:+0100
TZNAME:Europe/Stockholm CET
END:STANDARD
BEGIN:STANDARD
DTSTART:20261025T020000
RDATE:20270328T030000
TZOFFSETFROM:+0200
TZOFFSETTO:+0100
TZNAME:Europe/Stockholm CET
END:STANDARD
BEGIN:STANDARD
DTSTART:20271031T020000
RDATE:20280326T030000
TZOFFSETFROM:+0200
TZOFFSETTO:+0100
TZNAME:Europe/Stockholm CET
END:STANDARD
BEGIN:STANDARD
DTSTART:20281029T020000
RDATE:20290325T030000
TZOFFSETFROM:+0200
TZOFFSETTO:+0100
TZNAME:Europe/Stockholm CET
END:STANDARD
BEGIN:STANDARD
DTSTART:20291028T020000
RDATE:20300331T030000
TZOFFSETFROM:+0200
TZOFFSETTO:+0100
TZNAME:Europe/Stockholm CET
END:STANDARD
BEGIN:STANDARD
DTSTART:20301027T020000
RDATE:20310330T030000
TZOFFSETFROM:+0200
TZOFFSETTO:+0100
TZNAME:Europe/Stockholm CET
END:STANDARD
BEGIN:STANDARD
DTSTART:20311026T020000
RDATE:20320328T030000
TZOFFSETFROM:+0200
TZOFFSETTO:+0100
TZNAME:Europe/Stockholm CET
END:STANDARD
BEGIN:DAYLIGHT
DTSTART:20250430T090000
RDATE:20251026T020000
TZOFFSETFROM:+0100
TZOFFSETTO:+0200
TZNAME:Europe/Stockholm CEST
END:DAYLIGHT
BEGIN:DAYLIGHT
DTSTART:20260329T030000
RDATE:20261025T020000
TZOFFSETFROM:+0100
TZOFFSETTO:+0200
TZNAME:Europe/Stockholm CEST
END:DAYLIGHT
BEGIN:DAYLIGHT
DTSTART:20270328T030000
RDATE:20271031T020000
TZOFFSETFROM:+0100
TZOFFSETTO:+0200
TZNAME:Europe/Stockholm CEST
END:DAYLIGHT
BEGIN:DAYLIGHT
DTSTART:20280326T030000
RDATE:20281029T020000
TZOFFSETFROM:+0100
TZOFFSETTO:+0200
TZNAME:Europe/Stockholm CEST
END:DAYLIGHT
BEGIN:DAYLIGHT
DTSTART:20290325T030000
RDATE:20291028T020000
TZOFFSETFROM:+0100
TZOFFSETTO:+0200
TZNAME:Europe/Stockholm CEST
END:DAYLIGHT
BEGIN:DAYLIGHT
DTSTART:20300331T030000
RDATE:20301027T020000
TZOFFSETFROM:+0100
TZOFFSETTO:+0200
TZNAME:Europe/Stockholm CEST
END:DAYLIGHT
BEGIN:DAYLIGHT
DTSTART:20310330T030000
RDATE:20311026T020000
TZOFFSETFROM:+0100
TZOFFSETTO:+0200
TZNAME:Europe/Stockholm CEST
END:DAYLIGHT
END:VTIMEZONE
BEGIN:VEVENT
UID:64d6eff37457e7d2b79d48609c61b6a9
CATEGORIES:DEFAULT
CREATED:20260418T113437
SUMMARY:1:a Maj turen
URL;VALUE=URI:https://www.blekingemc.se/index.php/kalender-manad/handelsedetaljer/44/-/1-
 a-maj-turen?tmpl=component
DESCRIPTION:Årets 1:a Maj tur går till Störlinge Lantbruks och Motormuseum på Öland.\nP
 acka med egen fika till vårt fika stopp på väg mot Öland. Finns även fikamö
 jligheter på Muséet. \nEfter besöket kör vi till Bistro Sjöstugan i Borghol
 m för lunch. \nCa tider för dagen Start kl 08:30 Viggenplanet. \nPasserar A
 ngöringen ca 09:00.\nkommer till Störlinge ca 12:30\nLunch Bistro Sjöstugan
  ca 14:30\nDagen slutar ca 18:30 beroende lite på vart man bor i Blekinge.\
 n
 \n This event was imported from: https://www.blekingemc.se/index.php/kal
 ender-manad/handelsedetaljer/44/-/1-a-maj-turen?tmpl=component

X-ALT-DESC;FMTTYPE=text/html:<p>Årets 1:a Maj tur går till Störlinge Lantbruks och Motormuseum på Öland.
 <br />Packa med egen fika till vårt fika stopp på väg mot Öland. Finns även
  fikamöjligheter på Muséet. <br />Efter besöket kör vi till Bistro Sjöstuga
 n i Borgholm för lunch. <br />Ca tider för dagen Start kl 08:30 Viggenplane
 t. <br />Passerar Angöringen ca 09:00.<br />kommer till Störlinge ca 12:30<
 br />Lunch Bistro Sjöstugan ca 14:30<br />Dagen slutar ca 18:30 beroende li
 te på vart man bor i Blekinge.</p><p> </p> <a href="https://www.blekingemc.
 se/index.php/kalender-manad/handelsedetaljer/44/-/1-a-maj-turen?tmpl=compon
 ent">This event was imported from: https://www.blekingemc.se/index.php/kale
 nder-manad/handelsedetaljer/44/-/1-a-maj-turen?tmpl=component</a>DTSTAMP:20260423T014627
DTSTART;TZID=Europe/Stockholm:20260501T090000
SEQUENCE:0
TRANSP:OPAQUE
END:VEVENT
END:VCALENDAR