BEGIN:VCALENDAR
VERSION:2.0
PRODID:-//jEvents 2.0 for Joomla//EN
CALSCALE:GREGORIAN
METHOD:PUBLISH
BEGIN:VTIMEZONE
TZID:Europe/Stockholm
BEGIN:STANDARD
DTSTART:20251026T020000
RDATE:20260329T030000
TZOFFSETFROM:+0200
TZOFFSETTO:+0100
TZNAME:Europe/Stockholm CET
END:STANDARD
BEGIN:STANDARD
DTSTART:20261025T020000
RDATE:20270328T030000
TZOFFSETFROM:+0200
TZOFFSETTO:+0100
TZNAME:Europe/Stockholm CET
END:STANDARD
BEGIN:STANDARD
DTSTART:20271031T020000
RDATE:20280326T030000
TZOFFSETFROM:+0200
TZOFFSETTO:+0100
TZNAME:Europe/Stockholm CET
END:STANDARD
BEGIN:STANDARD
DTSTART:20281029T020000
RDATE:20290325T030000
TZOFFSETFROM:+0200
TZOFFSETTO:+0100
TZNAME:Europe/Stockholm CET
END:STANDARD
BEGIN:STANDARD
DTSTART:20291028T020000
RDATE:20300331T030000
TZOFFSETFROM:+0200
TZOFFSETTO:+0100
TZNAME:Europe/Stockholm CET
END:STANDARD
BEGIN:STANDARD
DTSTART:20301027T020000
RDATE:20310330T030000
TZOFFSETFROM:+0200
TZOFFSETTO:+0100
TZNAME:Europe/Stockholm CET
END:STANDARD
BEGIN:STANDARD
DTSTART:20311026T020000
RDATE:20320328T030000
TZOFFSETFROM:+0200
TZOFFSETTO:+0100
TZNAME:Europe/Stockholm CET
END:STANDARD
BEGIN:DAYLIGHT
DTSTART:20250512T180000
RDATE:20251026T020000
TZOFFSETFROM:+0100
TZOFFSETTO:+0200
TZNAME:Europe/Stockholm CEST
END:DAYLIGHT
BEGIN:DAYLIGHT
DTSTART:20260329T030000
RDATE:20261025T020000
TZOFFSETFROM:+0100
TZOFFSETTO:+0200
TZNAME:Europe/Stockholm CEST
END:DAYLIGHT
BEGIN:DAYLIGHT
DTSTART:20270328T030000
RDATE:20271031T020000
TZOFFSETFROM:+0100
TZOFFSETTO:+0200
TZNAME:Europe/Stockholm CEST
END:DAYLIGHT
BEGIN:DAYLIGHT
DTSTART:20280326T030000
RDATE:20281029T020000
TZOFFSETFROM:+0100
TZOFFSETTO:+0200
TZNAME:Europe/Stockholm CEST
END:DAYLIGHT
BEGIN:DAYLIGHT
DTSTART:20290325T030000
RDATE:20291028T020000
TZOFFSETFROM:+0100
TZOFFSETTO:+0200
TZNAME:Europe/Stockholm CEST
END:DAYLIGHT
BEGIN:DAYLIGHT
DTSTART:20300331T030000
RDATE:20301027T020000
TZOFFSETFROM:+0100
TZOFFSETTO:+0200
TZNAME:Europe/Stockholm CEST
END:DAYLIGHT
BEGIN:DAYLIGHT
DTSTART:20310330T030000
RDATE:20311026T020000
TZOFFSETFROM:+0100
TZOFFSETTO:+0200
TZNAME:Europe/Stockholm CEST
END:DAYLIGHT
END:VTIMEZONE
BEGIN:VEVENT
UID:43dfe70e54f5e62bf9bd2f11b17ec5d7
CATEGORIES:DEFAULT
CREATED:19700101T010000
SUMMARY:ONSDAGSTUR
URL;VALUE=URI:https://www.blekingemc.se/index.php/kalender-manad/handelsedetaljer/56/-/on
 sdagstur?tmpl=component
DESCRIPTION:Veckans Onsdagstur körs från ST1 Macken E22 Listerby.\nStart kl 18:00.\nSe 
 till att hojen är fulltankad.\nStart från Listerby macken Jämna veckor.\nVä
 lkomna\n This event was imported from: https://www.blekingemc.se/index.php/
 kalender-manad/handelsedetaljer/56/-/onsdagstur?tmpl=component (https://www
 .blekingemc.se/index.php/kalender-manad/handelsedetaljer/56/-/onsdagstur?tm
 pl=component)

X-ALT-DESC;FMTTYPE=text/html:<p>Veckans Onsdagstur körs från ST1 Macken E22 Listerby.<br />Start kl 18:0
 0.<br />Se till att hojen är fulltankad.<br />Start från Listerby macken Jä
 mna veckor.<br />Välkomna</p> <a href="https://www.blekingemc.se/index.php/
 kalender-manad/handelsedetaljer/56/-/onsdagstur?tmpl=component">This event 
 was imported from: https://www.blekingemc.se/index.php/kalender-manad/hande
 lsedetaljer/56/-/onsdagstur?tmpl=component</a>DTSTAMP:20260423T061134
DTSTART;TZID=Europe/Stockholm:20260513T180000
SEQUENCE:0
RRULE:FREQ=WEEKLY;UNTIL=20261001T000000Z;INTERVAL=2;BYDAY=WE
TRANSP:OPAQUE
END:VEVENT
END:VCALENDAR